BEGIN:VCALENDAR
VERSION:2.0
PRODID:-//EquipNM - ECPv6.15.20//NONSGML v1.0//EN
CALSCALE:GREGORIAN
METHOD:PUBLISH
X-WR-CALNAME:EquipNM
X-ORIGINAL-URL:https://equipnm.org
X-WR-CALDESC:Events for EquipNM
REFRESH-INTERVAL;VALUE=DURATION:PT1H
X-Robots-Tag:noindex
X-PUBLISHED-TTL:PT1H
BEGIN:VTIMEZONE
TZID:America/Denver
BEGIN:DAYLIGHT
TZOFFSETFROM:-0700
TZOFFSETTO:-0600
TZNAME:MDT
DTSTART:20250309T090000
END:DAYLIGHT
BEGIN:STANDARD
TZOFFSETFROM:-0600
TZOFFSETTO:-0700
TZNAME:MST
DTSTART:20251102T080000
END:STANDARD
BEGIN:DAYLIGHT
TZOFFSETFROM:-0700
TZOFFSETTO:-0600
TZNAME:MDT
DTSTART:20260308T090000
END:DAYLIGHT
BEGIN:STANDARD
TZOFFSETFROM:-0600
TZOFFSETTO:-0700
TZNAME:MST
DTSTART:20261101T080000
END:STANDARD
BEGIN:DAYLIGHT
TZOFFSETFROM:-0700
TZOFFSETTO:-0600
TZNAME:MDT
DTSTART:20270314T090000
END:DAYLIGHT
BEGIN:STANDARD
TZOFFSETFROM:-0600
TZOFFSETTO:-0700
TZNAME:MST
DTSTART:20271107T080000
END:STANDARD
END:VTIMEZONE
BEGIN:VTIMEZONE
TZID:UTC
BEGIN:STANDARD
TZOFFSETFROM:+0000
TZOFFSETTO:+0000
TZNAME:UTC
DTSTART:20250101T000000
END:STANDARD
END:VTIMEZONE
BEGIN:VTIMEZONE
TZID:America/Denver
BEGIN:DAYLIGHT
TZOFFSETFROM:-0700
TZOFFSETTO:-0600
TZNAME:MDT
DTSTART:20250309T090000
END:DAYLIGHT
BEGIN:STANDARD
TZOFFSETFROM:-0600
TZOFFSETTO:-0700
TZNAME:MST
DTSTART:20251102T080000
END:STANDARD
BEGIN:DAYLIGHT
TZOFFSETFROM:-0700
TZOFFSETTO:-0600
TZNAME:MDT
DTSTART:20260308T090000
END:DAYLIGHT
BEGIN:STANDARD
TZOFFSETFROM:-0600
TZOFFSETTO:-0700
TZNAME:MST
DTSTART:20261101T080000
END:STANDARD
BEGIN:DAYLIGHT
TZOFFSETFROM:-0700
TZOFFSETTO:-0600
TZNAME:MDT
DTSTART:20270314T090000
END:DAYLIGHT
BEGIN:STANDARD
TZOFFSETFROM:-0600
TZOFFSETTO:-0700
TZNAME:MST
DTSTART:20271107T080000
END:STANDARD
END:VTIMEZONE
BEGIN:VEVENT
DTSTART;TZID=America/Denver:20260428T190000
DTEND;TZID=America/Denver:20260428T203000
DTSTAMP:20260423T031010
CREATED:20260422T160459Z
LAST-MODIFIED:20260422T160602Z
UID:537-1777402800-1777408200@equipnm.org
SUMMARY:Notice of Rescheduling of Regular Board Meeting
DESCRIPTION:The regular meeting of the Board originally scheduled for April 16\, 2026 has been rescheduled\nto April 28 2026. \nThe meeting will be held via zoom at 7:00pm. The agenda will be available in accordance with\nthe Open Meetings Act. \nThis notice is provided in compliance with applicable board policies and the New Mexico Open\nMeetings Act.\nDated this 14th of April 2026.
URL:https://equipnm.org/event/board-meeting-reschedule-april/
ATTACH;FMTTYPE=image/png:https://cdn.equipnm.org/wp-content/uploads/2026/04/Screenshot-2026-04-22-120526.png
END:VEVENT
BEGIN:VEVENT
DTSTART;TZID=America/Denver:20260223T173000
DTEND;TZID=America/Denver:20260223T200000
DTSTAMP:20260423T031010
CREATED:20260123T223600Z
LAST-MODIFIED:20260123T223600Z
UID:365-1771867800-1771876800@equipnm.org
SUMMARY:Equip Kinder Readiness
DESCRIPTION:
URL:https://equipnm.org/event/equip-kinder-readiness/
LOCATION:Equip Academy of New Mexico\, 1500 N renaissance Blvd NE suite C\, Albuquerque\, NM\, 87107\, United States
ATTACH;FMTTYPE=image/jpeg:https://cdn.equipnm.org/wp-content/uploads/2026/01/Equip-Kinder-Readiness-Event-2025.jpg
END:VEVENT
BEGIN:VEVENT
DTSTART;TZID=America/Denver:20260207T110000
DTEND;TZID=America/Denver:20260207T140000
DTSTAMP:20260423T031010
CREATED:20260120T222157Z
LAST-MODIFIED:20260123T220926Z
UID:350-1770462000-1770472800@equipnm.org
SUMMARY:Equip Academy of NM - Enrollment Event
DESCRIPTION:
URL:https://equipnm.org/event/equip-academy-of-nm-enrollment-event/
LOCATION:Equip Academy of New Mexico\, 1500 N renaissance Blvd NE suite C\, Albuquerque\, NM\, 87107\, United States
ATTACH;FMTTYPE=image/jpeg:https://cdn.equipnm.org/wp-content/uploads/2026/01/FINAL-INVITE-2-1.jpg
END:VEVENT
BEGIN:VEVENT
DTSTART;TZID=UTC:20260119T173000
DTEND;TZID=UTC:20260119T183000
DTSTAMP:20260423T031010
CREATED:20251230T213839Z
LAST-MODIFIED:20260113T010045Z
UID:77-1768843800-1768847400@equipnm.org
SUMMARY:Discovery Night
DESCRIPTION:🌟Equip Academy Discovery Night 🌟\nStrong Start. Bright Future. \nIs your child ready for kindergarten or 1st grade? Join us for Equip Academy’s Discovery Night and see how curious minds grow here – Opening Fall 2026! \n✅ Hands-on\, inquiry-based learning \n✅ Small classes with caring teachers \n✅ A community that celebrates every child \n📅 Friday\, January 19 • 5:30 PM \n1500 N. Renaissance Blvd NE.\, Suite C Albuquerque\, NM 87107 \n505-420-6141 \nDiscover how we equip children for what’s next. \nRSVP now and start your child’s journey to a bright future!
URL:https://equipnm.org/event/kindergarten-readines/
ATTACH;FMTTYPE=image/jpeg:https://cdn.equipnm.org/wp-content/uploads/2025/12/unnamed.jpg
END:VEVENT
BEGIN:VEVENT
DTSTART;TZID=America/Denver:20260115T190000
DTEND;TZID=America/Denver:20260115T203000
DTSTAMP:20260423T031010
CREATED:20260113T232242Z
LAST-MODIFIED:20260113T233739Z
UID:306-1768503600-1768509000@equipnm.org
SUMMARY:Governing Board Meeting: January 15\, 2026
DESCRIPTION:Meeting Agenda \nDate: January 15\, 2026\nTime: 7:00 pm-8:30 pm MDT\nLocation: In person – 1500 N. Renaissance Blvd NE.\, Suite C; virtual – Zoom \nIn compliance with the New Mexico Open Meetings Act\, this is a public meeting of the Equip Academy of New Mexico Governing Board. Community members are welcome to attend. \n 
URL:https://equipnm.org/event/governing-board-meeting-january-15-2026/
ATTACH;FMTTYPE=image/jpeg:https://cdn.equipnm.org/wp-content/uploads/2026/01/people-taking-part-high-protocol-event.jpg
END:VEVENT
END:VCALENDAR